BEGIN:VCALENDAR
VERSION:2.0
PRODID:-//Freundeskreis Maximiliansau/Cany-Barville - ECPv6.15.20//NONSGML v1.0//EN
CALSCALE:GREGORIAN
METHOD:PUBLISH
X-WR-CALNAME:Freundeskreis Maximiliansau/Cany-Barville
X-ORIGINAL-URL:https://maximiliansau-cany.de
X-WR-CALDESC:Veranstaltungen für Freundeskreis Maximiliansau/Cany-Barville
REFRESH-INTERVAL;VALUE=DURATION:PT1H
X-Robots-Tag:noindex
X-PUBLISHED-TTL:PT1H
BEGIN:VTIMEZONE
TZID:UTC
BEGIN:STANDARD
TZOFFSETFROM:+0000
TZOFFSETTO:+0000
TZNAME:UTC
DTSTART:20250101T000000
END:STANDARD
END:VTIMEZONE
BEGIN:VEVENT
DTSTART;TZID=UTC:20260514T190000
DTEND;TZID=UTC:20260517T235900
DTSTAMP:20260424T141003
CREATED:20260423T192504Z
LAST-MODIFIED:20260423T192504Z
UID:248-1778785200-1779062340@maximiliansau-cany.de
SUMMARY:Partnerschaftswochende mit französischer Gemeinde Cany-Barville  vom 14. bis 17. Mai in Maximiliansau
DESCRIPTION:Deutsch–französisches Mensch–ärgere–dich–nicht–Turnier mit Grillabend als Höhepunkt – Bürgerinnen und Bürger herzlich willkommen  \nDer Freundeskreis Maximiliansau/Cany–Barville 2005 e.V. empfängt vom 14. bis 17. Mai 2026 Gäste aus der französischen Partnergemeinde Cany–Barville in der Normandie. Das Austauschwochenende steht ganz im Zeichen der gelebten deutsch–französischen Freundschaft und bietet ein abwechslungsreiches Programm für alle Generationen.  \nDen Auftakt bildet die feierliche Begrüßung der französischen Gäste am Freitag\, den 14. Mai\, um 18.00 Uhr in der Tullahalle Maximiliansau. Der Musikverein Harmonie umrahmt den Empfang musikalisch\, zu dem ein Aperitif gereicht wird.  \nAm Samstag\, den 15. Mai\, erwartet die Gäste und alle interessierten Bürgerinnen und Bürger das Highlight des Wochenendes: ein deutsch–französisches Mensch–ärgere–dich–nicht–Turnier mit anschließendem Grillabend in der Tullahalle. Ab 15 Uhr sind die Türen geöffnet\, der Turnierstart ist um 16.30 Uhr. Zuvor gibt es Kaffee und Kuchen. Ab 19 Uhr wird gemeinsam gegrillt. Der Teilnahmebeitrag beträgt 15 Euro pro Person. Unterstützt wird der Freundeskreis bei der Ausrichtung des Turniers von den NaturFreunden Maximiliansau.  \n„Das Turnier soll Menschen zusammenbringen – unabhängig davon\, ob man Französisch spricht oder nicht. Mensch ärgere dich nicht versteht jeder!“\, so die Vorsitzende Sabine Heimbach. „Wir freuen uns\, dass wir mit den NaturFreunden einen starken Partner an unserer Seite haben.“ Den festlichen Abschluss des Wochenendes bildet der Abschiedsabend am Sonntag\, den 16. Mai\, ab 19 Uhr in der Tullahalle. Bei einem Buffet mit Getränken und musikalischer Unterhaltung lassen die deutschen und französischen Gäste das Wochenende gemeinsam ausklingen. Der Teilnahmebeitrag für den Abschiedsabend beträgt 30 Euro pro Person.  \nVeranstaltungen auf einen Blick: Begrüßungsabend: Freitag\, 14. Mai 2026\, 19.00 Uhr\, Tullahalle Maximiliansau Mensch–ärgere–dich–nicht–Turnier + Grillabend: Samstag\, 15. Mai 2026\, ab 15 Uhr (Turnierstart 16.30 Uhr\, Essen ab 19 Uhr)\, Tullahalle Maximiliansau\, 15 EUR p. P. Abschiedsabend: Sonntag\, 16. Mai 2026\, ab 19 Uhr\, Tullahalle Maximiliansau\, 30 EUR p. P.  \nAnmeldung: Bis zum 6. Mai 2026 bei Frau Walter im Bürgerhaus\, telefonisch unter 07271/131–380 oder per E–Mail an maximiliansau@woerth.de. Hintergrund: Die Partnerschaft zwischen Maximiliansau (Ortsbezirk der Stadt Wörth am Rhein) und der normannischen Gemeinde Cany–Barville besteht seit 1967 wird seit 2005 vom Freundeskreis Maximiliansau/Cany–Barville e.V. getragen. Durch regelmäßige Austauschbesuche\, gemeinsame Veranstaltungen und persönliche Begegnungen pflegen die beiden Gemeinden eine lebendige Freundschaft über Ländergrenzen hinweg.  \n  \nPressekontakt: Sabine Heimbach\, Erste Vorsitzende | Tel. 0176/96616627 Freundeskreis Maximiliansau/Cany–Barville 2005 e.V.
URL:https://maximiliansau-cany.de/event/partnerschaftswochende-mit-franzoesischer-gemeinde-cany-barville-vom-14-bis-17-mai-in-maximiliansau/
LOCATION:Maximiliansau Tullahalle\, Kronenstraße 12\, Wörth am Rhein\, Rheinland-Pfalz\, 76744\, Germany
END:VEVENT
END:VCALENDAR